BEGIN:VCALENDAR
VERSION:2.0
PRODID:-//families1stpartnership.org//NONSGML kigkonsult.se iCalcreator 2.3
 0.10//
CALSCALE:GREGORIAN
METHOD:PUBLISH
UID:ba9bff38-983a-47cd-a751-a8c83bc2bd0a
X-WR-CALDESC:Come in the women's Resource Center and see how you can take h
 ome this lovable Giant Giraffe! Drawing will be February 14th 2024
X-WR-RELCALID:9b6d233c767f195a956aa7b396a51bc4
X-WR-TIMEZONE:America/Chicago
BEGIN:VTIMEZONE
TZID:America/Chicago
BEGIN:STANDARD
TZNAME:CST
DTSTART:20231105T020000
TZOFFSETFROM:-0500
TZOFFSETTO:-0600
RDATE:20241103T020000
END:STANDARD
BEGIN:DAYLIGHT
TZNAME:CDT
DTSTART:20230312T020000
TZOFFSETFROM:-0600
TZOFFSETTO:-0500
RDATE:20240310T020000
RDATE:20250309T020000
END:DAYLIGHT
END:VTIMEZONE
BEGIN:VEVENT
UID:79245483-bca1-48f7-b6d9-7fa6babc361b
DTSTAMP:20260423T085100Z
DESCRIPTION:Come in the women's Resource Center and see how you can take ho
 me this lovable Giant Giraffe! Drawing will be February 14th 2024
DTSTART;TZID=America/Chicago:20240124T050000
DTEND;TZID=America/Chicago:20240214T050001
LOCATION:209 McNeel Lane\, North Platte\, NE 69101 US
SUMMARY:Coloring Contest
END:VEVENT
END:VCALENDAR
